BEGIN:VCALENDAR
VERSION:2.0
PRODID:-//eventon.com NONSGML v1.0//EN
CALSCALE:GREGORIAN
METHOD:PUBLISH
BEGIN:VEVENT
UID:69e886d605486
DTSTAMP:20260422T082910Z
DTSTART:20260526T210000Z
DTEND:20260527T020000Z
LOCATION:The Ridge Activity Center 3827 Maltby Rd\,  Bothell\,  WA 98012
SUMMARY:Laser Tag Tuesdays
DESCRIPTION:SPECIAL DEAL! BOGO half off on all sessions on Tuesdays and Thu
 rsdays Learn More\nhttps://theridge.fun/events/laser-tag-tuesdays/var/ri-14
 .l-L1
URL:https://theridge.fun/events/laser-tag-tuesdays/var/ri-14.l-L1
END:VEVENT
END:VCALENDAR