BEGIN:VCALENDAR
VERSION:2.0
PRODID:-//eventon.com NONSGML v1.0//EN
CALSCALE:GREGORIAN
METHOD:PUBLISH
BEGIN:VEVENT
UID:69eadd23b69fc
DTSTAMP:20260424T030155Z
DTSTART:20250125T010000Z
DTEND:20250125T050000Z
LOCATION:
SUMMARY:PARENTS NIGHT OUT
DESCRIPTION:LEARN MORE\nhttps://theridge.fun/events/parents-night-out-2/
URL:https://theridge.fun/events/parents-night-out-2/
END:VEVENT
END:VCALENDAR