BEGIN:VCALENDAR
VERSION:2.0
PRODID:-//eventon.com NONSGML v1.0//EN
CALSCALE:GREGORIAN
METHOD:PUBLISH
BEGIN:VEVENT
UID:69e9f14a5258a
DTSTAMP:20260423T101538Z
DTSTART:20240727T163000Z
DTEND:20240801T010000Z
LOCATION:Camp Na-Bor-Lee Speckled Bird Way\,  Fruitland\,  WA 99129
SUMMARY:2024 Youth Camp @ Camp Na-Bor-Lee
DESCRIPTION:Are you ready for 5 days filled with fun activities\,  life-cha
 nging Bible studies\,  awesome worship\,  and unforgettable memories? Well\
 ,  you&#8217;ve come to the right place! Park Ridge Community Church is goi
 ng to Camp Na-Bor-Lee at Lake Roosevelt for our 12th annual youth camp.  C
 LICK HERE TO REGISTER Who:&nbsp;Students who have[..]\nhttps://theridge.fun
 /events/2024-youth-camp-camp-na-bor-lee/
URL:https://theridge.fun/events/2024-youth-camp-camp-na-bor-lee/
END:VEVENT
END:VCALENDAR